Workbook
Name fakt1R: #REF!

Sheet Zoznam
A1: Nazov harku | B1: Nazov stavby | C1: Nazov objektu | D1: Nazov casti | E1: Nazov oddielu | F1: Nazov odboru | G1: Kod objektu | H1: Kod casti | I1: Kod oddielu | J1: Kod odboru | K1: Cislo objektu | L1: Cislo casti | M1: Cislo oddielu | N1: Cislo odboru | O1: HSVm | P1: HSVd | Q1: PSVm | R1: PSVd | S1: MCEm | T1: MCEd | U1: INEm | V1: INEd | W1: ZRN | X1: ORN | Y1: NUS | Z1: IN | AA1: ON | AB1: DPH 1.sadzba | AC1: DPH 2.sadzba | AD1: Spolu
O2: Vzorec | P2: Vzorec | Q2: Vzorec | R2: Vzorec | S2: Vzorec | T2: Vzorec | U2: Vzorec | V2: Vzorec | W2: Vzorec | X2: Vzorec | Y2: Edit ! | Z2: Edit ! | AA2: Edit ! | AB2: Edit ! | AC2: Edit !
B4: Stavba : Spevnené plochy v areáli NB - 10.bj. Horné Turovce
A5: Prehlad_3___ | B5: Stavba : Spevnené plochy v areáli NB - 10.bj. Horné Turovce | C5: Objekt :Dlažba bez demontáže cestných panelov | G5: 3 | O5: =SUMIF(Prehlad_3___!AJ12:'Prehlad_3___'!AJ57,"EK",Prehlad_3___!J12:'Prehlad_3___'!J57) -> 0 | P5: =SUMIF(Prehlad_3___!AJ12:'Prehlad_3___'!AJ57,"EZ",Prehlad_3___!J12:'Prehlad_3___'!J57) -> 0 | Q5: =SUMIF(Prehlad_3___!AJ12:'Prehlad_3___'!AJ57,"IK",Prehlad_3___!J12:'Prehlad_3___'!J57) -> 0 | R5: =SUMIF(Prehlad_3___!AJ12:'Prehlad_3___'!AJ57,"IZ",Prehlad_3___!J12:'Prehlad_3___'!J57) -> 0 | S5: =SUMIF(Prehlad_3___!AJ12:'Prehlad_3___'!AJ57,"MK",Prehlad_3___!J12:'Prehlad_3___'!J57) -> 0 | T5: =SUMIF(Prehlad_3___!AJ12:'Prehlad_3___'!AJ57,"MZ",Prehlad_3___!J12:'Prehlad_3___'!J57) -> 0 | U5: =SUMIF(Prehlad_3___!AJ12:'Prehlad_3___'!AJ57,"PK",Prehlad_3___!J12:'Prehlad_3___'!J57) -> 0 | V5: =SUMIF(Prehlad_3___!AJ12:'Prehlad_3___'!AJ57,"PZ",Prehlad_3___!J12:'Prehlad_3___'!J57) -> 0 | W5: =SUM(O5:V5) -> 0 | X5: =SUMIF(Prehlad_3___!AJ12:'Prehlad_3___'!AJ57,"U",Prehlad_3___!J12:'Prehlad_3___'!J57) -> 0 | AD5: =SUM(W5:AC5) -> 0
A7: Spolu: | O7: =SUM(O3:O5) -> 0 | P7: =SUM(P3:P5) -> 0 | Q7: =SUM(Q3:Q5) -> 0 | R7: =SUM(R3:R5) -> 0 | S7: =SUM(S3:S5) -> 0 | T7: =SUM(T3:T5) -> 0 | U7: =SUM(U3:U5) -> 0 | V7: =SUM(V3:V5) -> 0 | ... AD7: =SUM(AD3:AD5) -> 0

Sheet Prehlad_3___
A1: Odberateľ: Obec Horné Turovce | E1: Spracoval: Rudolf Neshoda | Z1: V module | AA1: Hlavička1 | AB1: Mena | AC1: Hlavička2 | AD1: Obdobie | AE1: Počet des.miest | AF1: Formát
A2: Projektant: | E2: JKSO : | Z2: Rozpočet | AA2: Prehľad rozpočtových nákladov v | AB2: EUR | AE2: 1 | AF2: 123.5
A3: Dodávateľ: | E3: Dátum: 19.08.2026 | Z3: Čerpanie | AA3: Súpis vykonaných prác a dodávok v | AB3: EUR | AC3: za obdobie | AD3: Mesiac 2011 | AE3: 2 | AF3: 123.46
Z4: VK | AA4: Prehľad kalkulovaných nákladov v | AB4: EUR | AE4: 3 | AF4: 123.457
A5: Stavba : Spevnené plochy v areáli NB - 10.bj. Horné Turovce | Z5: VF | AA5: Súpis vykonaných prác a dodávok v | AB5: EUR | AC5: za obdobie | AD5: Mesiac 2011 | AE5: 4 | AF5: 123.4567
A6: Objekt :Dlažba bez demontáže cestných panelov | AE6: N | AF6: 123.46
A8: Rudolf Neshoda - ERNEST, s.r.o. | D8: =CONCATENATE(AA2," ",AB2," ",AC2," ",AD2) -> Prehľad rozpočtových nákladov v EUR
A9: Por. | B9: Kód | C9: Kód položky | D9: Popis položky, stavebného dielu, remesla, | E9: Množstvo | F9: Merná | G9: Jednotková | H9: Konštrukcie | I9: Špecifikovaný | J9: Spolu | K9: Hmotnosť v tonách | M9: Suť v tonách | O9: DPH | P9: Pozícia | Q9: Množstvo | R9: Množstvo | S9: Množstvo | T9: Vyňatý | U9: Vysoká sadzba | V9: Typ | W9: Nh | X9: X | Y9: Y | Z9: Klasifikácia | AA9: Katalógové | AB9: Typ | AC9: AC | AD9: AD | AE9: Jedn. cena | AF9: Index JC | AG9: Množstvo | AH9: Index mn. | AJ9: Zaradenie | AK9: Lev0
A10: číslo | B10: cen. | D10: výkaz-výmer | E10: výmera | F10: jednotka | G10: cena | H10: a práce | I10: materiál | K10: Jednotková | L10: Spolu | M10: Jednotková | N10: Spolu | O10: % | Q10: rozpočtované | R10: od začiatku | S10: dodatok | T10: z režimu stavba | U10: DPH ( materiál ) | V10: položky | Z10: produkcie | AA10: číslo | AB10: ceny | AJ10: pre KL | AK10: pozícia
B12: PRÁCE A DODÁVKY HSV
B13: 1 - ZEMNE PRÁCE
B14: 001 | C14: 122202201 | D14: Odkopávky pre cesty v horn. tr. 3 do 100 m3 | E14: 16.2 | F14: m3 | H14: =ROUND(E14*G14,2) -> 0 | J14: =ROUND(E14*G14,2) -> 0 | L14: =E14*K14 -> 0 | N14: =E14*M14 -> 0 | V14: E | X14: 12220-2201 | Y14: 122202201 | Z14: 45.11.24 | AJ14: EK | AK14: S
D15: 4,5*6*0,6 "porepoj od plochy po prah brány = 16,200 | V15: a
B16: 001 | C16: 122202209 | D16: Príplatok za lepivosť horn. tr. 3 pre cesty | E16: 16.2 | F16: m3 | H16: =ROUND(E16*G16,2) -> 0 | J16: =ROUND(E16*G16,2) -> 0 | L16: =E16*K16 -> 0 | N16: =E16*M16 -> 0 | V16: E | X16: 12220-2209 | Y16: 122202209 | Z16: 45.11.24 | AJ16: EK | AK16: S
D17: 16,2 = 16,200 | V17: a
B18: 272 | C18: 132301101 | D18: Hĺbenie rýh šírka do 60 cm v horn. tr. 4 do 100 m3 | E18: 7.2 | F18: m3 | H18: =ROUND(E18*G18,2) -> 0 | J18: =ROUND(E18*G18,2) -> 0 | L18: =E18*K18 -> 0 | N18: =E18*M18 -> 0 | V18: E | X18: 13230-1101 | Y18: 132301101 | Z18: 45.11.21 | AJ18: EK | AK18: S
D19: (27+1,5+7,5)*0,4*0,3 "odkop pre obrubníky = 4,320 | V19: a
D20: 24*0,4*0,3 "dtto ale na vjazde od brány po plochu = 2,880 | V20: a
B21: 272 | C21: 132301109 | D21: Príplatok za lepivosť horniny tr.4 v rýhach š. do 60 cm | E21: 7.2 | F21: m3 | H21: =ROUND(E21*G21,2) -> 0 | J21: =ROUND(E21*G21,2) -> 0 | L21: =E21*K21 -> 0 | N21: =E21*M21 -> 0 | V21: E | X21: 13230-1109 | Y21: 132301109 | Z21: 45.11.21 | AJ21: EK | AK21: S
D22: 7,2 = 7,200 | V22: a
B23: 272 | C23: 162601102 | D23: Vodorovné premiestnenie výkopu do 5000 m horn. tr. 1-4 | E23: 23.4 | F23: m3 | H23: =ROUND(E23*G23,2) -> 0 | J23: =ROUND(E23*G23,2) -> 0 | L23: =E23*K23 -> 0 | N23: =E23*M23 -> 0 | V23: E | X23: 16260-1102 | Y23: 162601102 | Z23: 45.11.24 | AJ23: EK | AK23: S
D24: 16,2+7,2 = 23,400 | V24: a
B25: 272 | C25: 171201201 | D25: Uloženie sypaniny na skládku | E25: 23.4 | F25: m3 | H25: =ROUND(E25*G25,2) -> 0 | J25: =ROUND(E25*G25,2) -> 0 | L25: =E25*K25 -> 0 | N25: =E25*M25 -> 0 | V25: E | X25: 17120-1201 | Y25: 171201201 | Z25: 45.11.24 | AJ25: EK | AK25: S
D26: 1 - ZEMNE PRÁCE spolu: | E26: =J26 -> 0 | H26: =SUM(H12:H25) -> 0 | I26: =SUM(I12:I25) -> 0 | J26: =SUM(J12:J25) -> 0 | L26: =SUM(L12:L25) -> 0 | N26: =SUM(N12:N25) -> 0 | W26: =SUM(W12:W25) -> 0
B28: 5 - KOMUNIKÁCIE
B29: 221 | C29: 564801112 | D29: Podklad zo štrkodrvy ŠD hr. 40 mm | E29: 302.5 | F29: m2 | H29: =ROUND(E29*G29,2) -> 0 | J29: =ROUND(E29*G29,2) -> 0 | K29: 0.08003 | L29: =E29*K29 -> 24.209075 | N29: =E29*M29 -> 0 | V29: E | X29: 56480-1112 | Y29: 564801112 | Z29: 45.23.11 | AJ29: EK | AK29: S
D30: 27*7,5 = 202,500 | V30: a
D31: 24*4 = 96,000 | V31: a
D32: 4 = 4,000 | V32: a
B33: 221 | C33: 564811111 | D33: Podklad zo štrkodrvy ŠD hr. 50 mm | E33: 27 | F33: m2 | H33: =ROUND(E33*G33,2) -> 0 | J33: =ROUND(E33*G33,2) -> 0 | K33: 0.0982 | L33: =E33*K33 -> 2.6514 | N33: =E33*M33 -> 0 | V33: E | X33: 56481-1111 | Y33: 564811111 | Z33: 45.23.11 | AJ33: EK | AK33: S
D34: 4,5*6 "prepoj od plochy po bránu MŠ = 27,000 | V34: a
B35: 221 | C35: 564851111 | D35: Podklad zo štrkodrvy ŠD hr. 150 mm | E35: 32 | F35: m2 | H35: =ROUND(E35*G35,2) -> 0 | J35: =ROUND(E35*G35,2) -> 0 | K35: 0.27994 | L35: =E35*K35 -> 8.95808 | N35: =E35*M35 -> 0 | V35: E | X35: 56485-1111 | Y35: 564851111 | Z35: 45.23.11 | AJ35: EK | AK35: S
D36: 32 = 32,000 | V36: a
B37: 221 | C37: 564861111 | D37: Podklad zo štrkodrvy ŠD hr. 200 mm | E37: 32 | F37: m2 | H37: =ROUND(E37*G37,2) -> 0 | J37: =ROUND(E37*G37,2) -> 0 | K37: 0.3708 | L37: =E37*K37 -> 11.8656 | N37: =E37*M37 -> 0 | V37: E | X37: 56486-1111 | Y37: 564861111 | Z37: 45.23.11 | AJ37: EK | AK37: S
D38: 32 "prepoj od plochy po bránu MŠ = 32,000 | V38: a
B39: 272 | C39: 596911212 | D39: Kladenie zámkovej dlažby na cesty hr. 80 mm, sk. A, plochy 100-300 m2 | E39: 302.5 | F39: m2 | H39: =ROUND(E39*G39,2) -> 0 | J39: =ROUND(E39*G39,2) -> 0 | K39: 0.074 | L39: =E39*K39 -> 22.385 | N39: =E39*M39 -> 0 | V39: E | X39: 59691-1212 | Y39: 596911212 | Z39: 45.23.12 | AJ39: EK | AK39: S
B40: MAT | C40: 5924F1300 | D40: Dlažba zámková hr.80mm sivá | E40: 317.625 | F40: m2 | I40: =ROUND(E40*G40,2) -> 0 | J40: =ROUND(E40*G40,2) -> 0 | L40: =E40*K40 -> 0 | N40: =E40*M40 -> 0 | V40: D | X40: 5924F1300 | Y40: 5924F1300 | Z40: . . | AJ40: EZ | AK40: S
D41: 302,5*1,05 = 317,625 | V41: a
D42: 5 - KOMUNIKÁCIE spolu: | E42: =J42 -> 0 | H42: =SUM(H28:H41) -> 0 | I42: =SUM(I28:I41) -> 0 | J42: =SUM(J28:J41) -> 0 | L42: =SUM(L28:L41) -> 70.069155 | N42: =SUM(N28:N41) -> 0 | W42: =SUM(W28:W41) -> 0
B44: 9 - OSTATNÉ KONŠTRUKCIE A PRÁCE
B45: 221 | C45: 916311113 | D45: Osadenie cest. obrubníka bet. ležatého, lôžko betón tr. C 12/15 s bočnou oporou | E45: 4.5 | F45: m | H45: =ROUND(E45*G45,2) -> 0 | J45: =ROUND(E45*G45,2) -> 0 | K45: 0.2023 | L45: =E45*K45 -> 0.91035 | N45: =E45*M45 -> 0 | V45: E | X45: 91631-1113 | Y45: 916311113 | Z45: 45.23.12 | AJ45: EK | AK45: S
D46: 4,5 "prejazd z plochy kj bráne MŠ = 4,500 | V46: a
B47: MAT | C47: 592174500 | D47: Obrubník chodníkový ABO 1-15 100x15x30 | E47: 5 | F47: kus | I47: =ROUND(E47*G47,2) -> 0 | J47: =ROUND(E47*G47,2) -> 0 | K47: 0.099 | L47: =E47*K47 -> 0.495 | N47: =E47*M47 -> 0 | V47: D | X47: 592174500 | Y47: 592174500 | Z47: 26.61.11 | AJ47: EZ | AK47: S
B48: 221 | C48: 916311123 | D48: Osadenie cest. obrubníka bet. stojatého, lôžko betón tr. C 12/15 s bočnou oporou | E48: 62 | F48: m | H48: =ROUND(E48*G48,2) -> 0 | J48: =ROUND(E48*G48,2) -> 0 | K48: 0.15555 | L48: =E48*K48 -> 9.6441 | N48: =E48*M48 -> 0 | V48: E | X48: 91631-1123 | Y48: 916311123 | Z48: 45.23.12 | AJ48: EK | AK48: S
D49: 27+3 = 30,000 | V49: a
D50: 24+8 = 32,000 | V50: a
B51: MAT | C51: 592174100R | D51: Obrubník chodníkový 100x10x20cm | E51: 65.1 | F51: kus | I51: =ROUND(E51*G51,2) -> 0 | J51: =ROUND(E51*G51,2) -> 0 | K51: 0.055 | L51: =E51*K51 -> 3.5805 | N51: =E51*M51 -> 0 | V51: D | X51: 592174100R | Y51: 592174100R | Z51: 26.61.11 | AJ51: EZ | AK51: S
D52: 62*1,05 = 65,100 | V52: a
B53: 221 | C53: 998223011 | D53: Presun hmôt pre pozemné komunikácie, kryt dláždený | E53: 84.699 | F53: t | H53: =ROUND(E53*G53,2) -> 0 | J53: =ROUND(E53*G53,2) -> 0 | L53: =E53*K53 -> 0 | N53: =E53*M53 -> 0 | V53: E | X53: 99822-3011 | Y53: 998223011 | Z53: 45.23.12 | AJ53: EK | AK53: S
D54: 9 - OSTATNÉ KONŠTRUKCIE A PRÁCE spolu: | E54: =J54 -> 0 | H54: =SUM(H44:H53) -> 0 | I54: =SUM(I44:I53) -> 0 | J54: =SUM(J44:J53) -> 0 | L54: =SUM(L44:L53) -> 14.62995 | N54: =SUM(N44:N53) -> 0 | W54: =SUM(W44:W53) -> 0
D56: PRÁCE A DODÁVKY HSV spolu: | E56: =J56 -> 0 | H56: =+H26+H42+H54 -> 0 | I56: =+I26+I42+I54 -> 0 | J56: =+J26+J42+J54 -> 0 | L56: =+L26+L42+L54 -> 84.699105 | N56: =+N26+N42+N54 -> 0 | W56: =+W26+W42+W54 -> 0
D58: Za rozpočet celkom | E58: =J58 -> 0 | H58: =+H56 -> 0 | I58: =+I56 -> 0 | J58: =+J56 -> 0 | L58: =+L56 -> 84.699105 | N58: =+N56 -> 0 | W58: =+W56 -> 0

Sheet Kryci list
B1: Rudolf Neshoda - ERNEST, s.r.o. | F1: =CONCATENATE(AA2," ",AB2," ",AC2," ",AD2) -> Krycí list rozpočtu v EUR | Z1: V module | AA1: Hlavička1 | AB1: Mena | AC1: Hlavička2 | AD1: Obdobie
C2: Stavba : Spevnené plochy v areáli NB - 10.bj. Horné Turovce | G2: Miesto: Horné Turovce | Z2: Rozpočet | AA2: Krycí list rozpočtu v | AB2: EUR
G3: JKSO : | Z3: Čerpanie | AA3: Krycí list splátky v | AB3: EUR | AC3: za obdobie | AD3: Mesiac 2011
Z4: VK | AA4: Krycí list výrobnej kalkulácie v | AB4: EUR
C5: Rozpočet: | E5: Zmluva č.: | G5: Spracoval: | I5: Dňa: | J5: 19.08.2026 | Z5: VF | AA5: Krycí list splátky v | AB5: EUR | AC5: za obdobie | AD5: Mesiac 2011
C6: Odberateľ: Obec Horné Turovce | G6: IČO:
D7: Horné Turovce | G7: DIČ:
C8: Dodávateľ: | G8: IČO:
G9: DIČ:
C10: Projektant: | G10: IČO:
G11: DIČ:
F12: =IF(B12<>0,ROUND($J$31/B12,0),0) -> 0 | J12: =IF(G12<>0,ROUND($J$31/G12,0),0) -> 0
F13: =IF(B13<>0,ROUND($J$31/B13,0),0) -> 0 | J13: =IF(G13<>0,ROUND($J$31/G13,0),0) -> 0
F14: =IF(B14<>0,ROUND($J$31/B14,0),0) -> 0 | J14: =IF(G14<>0,ROUND($J$31/G14,0),0) -> 0
B15: A | C15: ZRN | D15: Konštrukcie | E15: Špecifikovaný materiál | F15: Spolu ZRN | G15: B | H15: IN - Individuálne náklady
B16: 1 | C16: HSV: | D16: =Zoznam!O7 -> 0 | E16: =Zoznam!P7 -> 0 | F16: =D16+E16 -> 0 | G16: 6 | H16: IN celkom | J16: =Zoznam!Z7 -> 0
B17: 2 | C17: PSV: | D17: =Zoznam!Q7 -> 0 | E17: =Zoznam!R7 -> 0 | F17: =D17+E17 -> 0 | G17: 7 | J17: 0
B18: 3 | C18: MCE: | D18: =Zoznam!S7 -> 0 | E18: =Zoznam!T7 -> 0 | F18: =D18+E18 -> 0 | G18: 8 | J18: 0
B19: 4 | C19: Iné: | D19: =Zoznam!U7 -> 0 | E19: =Zoznam!V7 -> 0 | F19: =D19+E19 -> 0 | G19: 9 | J19: 0
B20: 5 | C20: Súčet: | D20: =SUM(D16:D19) -> 0 | E20: =SUM(E16:E19) -> 0 | F20: =SUM(F16:F19) -> 0 | G20: 10 | I20: Súčet riadkov 6 až 9: | J20: =SUM(J16:J19) -> 0
B21: C | D21: NUS - náklady umiestnenia stavby | G21: D | H21: ON - ostatné náklady
B22: 11 | C22: NUS celkom | E22: 0 | F22: =Zoznam!Y7 -> 0 | G22: 16 | H22: Ostatné náklady uvedené v rozpočte | J22: =Zoznam!X7 -> 0
B23: 12 | E23: 0 | F23: =ROUND(((D16+E16+D17+E17+D18)*E23),2) -> 0 | G23: 17 | H23: ON celkom | J23: =Zoznam!AA7 -> 0
B24: 13 | E24: 0 | F24: =ROUND(((D16+E16+D17+E17+D18)*E24),2) -> 0 | G24: 18 | J24: 0
B25: 14 | E25: 0 | F25: =ROUND(((D16+E16+D17+E17+D18+E18)*E25),2) -> 0 | G25: 19 | J25: 0
B26: 15 | E26: Sučet riadkov 11 až 14: | F26: =SUM(F22:F25) -> 0 | G26: 20 | I26: Sučet riadkov 16 až 19: | J26: =SUM(J22:J25) -> 0
C27: projektant, rozpočtár cenár | E27: pečiatka: | G27: E | H27: Celkové náklady
G28: 21 | I28: Súčet riadkov 5, 10, 15 a 20: | J28: =ROUND(F20,2)+J20+F26+J26 -> 0
C29: podpis: | G29: 22 | H29: DPH 1. sadzba | J29: =Zoznam!AB7 -> 0
C30: dátum: | G30: 23 | H30: DPH 2. sadzba | J30: =Zoznam!AC7 -> 0
G31: 24 | I31: Sučet riadkov 21 až 23: | J31: =SUM(J28:J30) -> 0
G32: F | H32: Odpočet - prípočet | J32: 0
D33: odberateľ, obstarávateľ | H33: dodávateľ, zhotoviteľ
C35: podpis: | G35: podpis:
C36: dátum: | G36: dátum:
C37: pečiatka: | G37: pečiatka:

Sheet Stavba
A1: Súhrnný list stavby - prehľad podzákaziek ( objektov, častí ) | B1: ZRN | C1: ORN | D1: ZRN+ORN | E1: NUS | F1: IN | G1: ON | H1: Spolu bez DPH | I1: DPH - 1.sadzba | J1: DPH - 2.sadzba | K1: Spolu s DPH | L1: Spolu s DPH | M1: Typ
A2: Názov stavby, objektu, časti | B2: EUR | C2: EUR | D2: EUR | E2: EUR | F2: EUR | G2: EUR | H2: EUR | I2: EUR | J2: EUR | K2: EUR | L2: SKK
A4: Stavba : Spevnené plochy v areáli NB - 10.bj. Horné Turovce | B4: =Zoznam!W4 -> 0 | C4: =Zoznam!X4 -> 0 | D4: =SUM(B4:C4) -> 0 | E4: =Zoznam!Y4 -> 0 | F4: =Zoznam!Z4 -> 0 | G4: =Zoznam!AA4 -> 0 | H4: =SUM(D4:G4) -> 0 | I4: =Zoznam!AB4 -> 0 | J4: =Zoznam!AC4 -> 0 | K4: =SUM(H4:J4) -> 0 | L4: =K4*30.126 -> 0 | M4: R
A5: ..Objekt :Dlažba bez demontáže cestných panelov | B5: =Zoznam!W5 -> 0 | C5: =Zoznam!X5 -> 0 | D5: =SUM(B5:C5) -> 0 | E5: =Zoznam!Y5 -> 0 | F5: =Zoznam!Z5 -> 0 | G5: =Zoznam!AA5 -> 0 | H5: =SUM(D5:G5) -> 0 | I5: =Zoznam!AB5 -> 0 | J5: =Zoznam!AC5 -> 0 | K5: =SUM(H5:J5) -> 0 | L5: =K5*30.126 -> 0 | M5: R
A7: Spolu: | B7: =SUM(B3:B5) -> 0 | C7: =SUM(C3:C5) -> 0 | D7: =SUM(D3:D5) -> 0 | E7: =SUM(E3:E5) -> 0 | F7: =SUM(F3:F5) -> 0 | G7: =SUM(G3:G5) -> 0 | H7: =SUM(H3:H5) -> 0 | I7: =SUM(I3:I5) -> 0 | ... L7: =SUM(L3:L5) -> 0
