Workbook

Sheet Rekapitulácia stavby
A1: Export Komplet | BA1: 2.0 | BT1: False | BU1: False | BV1: {6b1af9ba-3909-44a6-96f1-029f928c2862}
AR2: >> skryté stĺpce << | BS2: 0,01 | BT2: 23
BS3: 0,01 | BT3: 23
D4: REKAPITULÁCIA STAVBY | AS4: v --- nižšie sa nachádzajú doplnkové a pomocné údaje k zostavám --- v | BS4: 0,001
D5: Kód: | K5: 20260402 | BS5: 0,01
D6: Stavba: | K6: Rekonštrukcia športového povrchu | BS6: 0,01
D7: JKSO: | AK7: ČS: | BS7: 0,01
D8: Miesto: | K8: ZŠ Štefánikova Vrútky | AK8: Dátum: | AN8: 46233 | BS8: 0,01
BS9: 0,01
D10: Objednávateľ: | AK10: IČO: | BS10: 0,01
E11: Mesto Vrútky | AK11: IČ DPH: | BS11: 0,01
BS12: 0,01
D13: Zhotoviteľ: | AK13: IČO: | BS13: 0,01
AK14: IČ DPH: | BS14: 0,01
BS15: False
D16: Projektant: | AK16: IČO: | BS16: False
AK17: IČ DPH: | BS17: True
BS18: 0,01
D19: Spracovateľ: | AK19: IČO: | BS19: 0,01
AK20: IČ DPH: | BS20: True
D22: Poznámka:
D26: Cena bez DPH | AK26: =ROUND(AG94,2) -> 0
L28: Sadzba dane | W28: Základ dane | AK28: Výška dane
D29: DPH | F29: základná | L29: 0.23 | W29: =ROUND(AZ94, 2) -> 0 | AK29: =ROUND(AV94, 2) -> 0
F30: znížená | L30: 0.23 | W30: =ROUND(BA94, 2) -> 0 | AK30: =ROUND(AW94, 2) -> 0
F31: zákl. prenesená | L31: 0.23 | W31: =ROUND(BB94, 2) -> 0 | AK31: 0
F32: zníž. prenesená | L32: 0.23 | W32: =ROUND(BC94, 2) -> 0 | AK32: 0
F33: nulová | L33: 0 | W33: =ROUND(BD94, 2) -> 0 | AK33: 0
D35: Cena s DPH | T35: v | X35: EUR | AK35: =SUM(AK26:AK33) -> 0
D49: Projektant | AH49: Spracovateľ
D60: Dátum a podpis: | V60: Pečiatka | AH60: Dátum a podpis: | AM60: Pečiatka
D64: Objednávateľ | AH64: Zhotoviteľ
D75: Dátum a podpis: | V75: Pečiatka | AH75: Dátum a podpis: | AM75: Pečiatka
C82: REKAPITULÁCIA OBJEKTOV STAVBY
C84: Kód: | L84: =K5 -> 20260402
C85: Stavba: | L85: =K6 -> Rekonštrukcia športového povrchu
C87: Miesto: | L87: =IF(K8="","",K8) -> ZŠ Štefánikova Vrútky | AI87: Dátum: | AM87: =IF(AN8= "","",AN8) -> 46233
C89: Objednávateľ: | L89: =IF(E11= "","",E11) -> Mesto Vrútky | AI89: Projektant: | AM89: =IF(E17="","",E17) | AS89: Informatívne údaje z listov zákaziek
C90: Zhotoviteľ: | AI90: Spracovateľ:
C92: Kód | I92: Popis | AG92: Cena bez DPH [EUR] | AN92: Cena s DPH [EUR] | AQ92: Typ | AS92: z toho Ostat._x000D_ náklady [EUR] | AT92: DPH [EUR] | AU92: Normohodiny [h] | AV92: DPH základná [EUR] | AW92: DPH znížená [EUR] | AX92: DPH základná prenesená_x000D_ [EUR] | AY92: DPH znížená prenesená_x000D_ [EUR] | AZ92: Základňa_x000D_ DPH základná | BA92: Základňa_x000D_ DPH znížená | BB92: Základňa_x000D_ DPH zákl. prenesená | BC92: Základňa_x000D_ DPH zníž. prenesená | BD92: Základňa_x000D_ DPH nulová
...

Sheet rekonštrukcia šport. povrchu
L2: >> skryté stĺpce << | AT2: {6b1af9ba-3909-44a6-96f1-029f928c2862}
AT3: 0
D4: KRYCÍ LIST ROZPOČTU | M4: v --- nižšie sa nachádzajú doplnkové a pomocné údaje k zostavám --- v | AT4: False
D6: Stavba:
E7: Rekonštrukcia športového povrchu
D9: JKSO: | I9: ČS:
D10: Miesto: | F10: Vrútky, ZŠ Štefánikova | I10: Dátum: | J10: 46233
D12: Objednávateľ: | I12: IČO:
I13: IČ DPH:
D15: Zhotoviteľ: | I15: IČO:
I16: IČ DPH:
D18: Projektant: | I18: IČO: | J18: =IF('Rekapitulácia stavby'!AN16="","",'Rekapitulácia stavby'!AN16)
E19: =IF('Rekapitulácia stavby'!E17="","",'Rekapitulácia stavby'!E17) | I19: IČ DPH: | J19: =IF('Rekapitulácia stavby'!AN17="","",'Rekapitulácia stavby'!AN17)
D21: Spracovateľ: | I21: IČO:
I22: IČ DPH:
D24: Poznámka:
D28: Cena bez DPH | J28: =ROUND(J115, 2) -> 0
F30: Základ dane | I30: Sadzba dane | J30: Výška dane
D31: DPH | E31: základná | F31: =ROUND((SUM(BE115:BE139)), 2) -> 0 | I31: 0.23 | J31: =ROUND(((SUM(BE115:BE139))*I31), 2) -> 0
E32: znížená | F32: =ROUND((SUM(BF115:BF139)), 2) -> 0 | I32: 0.23 | J32: =ROUND(((SUM(BF115:BF139))*I32), 2) -> 0
E33: zákl. prenesená | F33: =ROUND((SUM(BG115:BG139)), 2) -> 0 | I33: 0.23 | J33: =0 -> 0
E34: zníž. prenesená | F34: =ROUND((SUM(BH115:BH139)), 2) -> 0 | I34: 0.23 | J34: =0 -> 0
E35: nulová | F35: =ROUND((SUM(BI115:BI139)), 2) -> 0 | I35: 0 | J35: =0 -> 0
D37: Cena s DPH | G37: v | H37: EUR | J37: =SUM(J28:J35) -> 0
D50: Projektant | G50: Spracovateľ
D61: Dátum a podpis: | F61: Pečiatka | G61: Dátum a podpis: | J61: Pečiatka
D65: Objednávateľ | G65: Zhotoviteľ
D76: Dátum a podpis: | F76: Pečiatka | G76: Dátum a podpis: | J76: Pečiatka
C82: REKAPITULÁCIA ROZPOČTU
C84: Stavba:
E85: =E7 -> Rekonštrukcia športového povrchu
C87: Miesto: | F87: =F10 -> Vrútky, ZŠ Štefánikova | I87: Dátum: | J87: 46233
C89: Objednávateľ: | F89: =E13 -> 0 | I89: Projektant: | J89: =E19
C90: Zhotoviteľ: | I90: Spracovateľ:
C92: Kód dielu - Popis | J92: Cena celkom [EUR]
C94: Náklady z rozpočtu | J94: =J115 -> 0 | AU94: -1
D95: HSV - Práce a dodávky HSV | J95: =J116 -> 0
D96: 6 - Športový povrch | J96: =J117 -> 0
D97: 991 - Odstránenie starého športového povrchu | J97: =J127 -> 0
C104: ROZPOČET
...
