Workbook

Sheet Rekapitulácia stavby
A1: Export Komplet | BA1: 2.0 | BT1: False | BU1: False | BV1: {6b1af9ba-3909-44a6-96f1-029f928c2862}
AR2: >> skryté stĺpce << | BS2: 0,01 | BT2: 23
BS3: 0,01 | BT3: 23
D4: REKAPITULÁCIA STAVBY | AS4: v --- nižšie sa nachádzajú doplnkové a pomocné údaje k zostavám --- v | BS4: 0,001
D5: Kód: | K5: 20260402 | BS5: 0,01
D6: Stavba: | K6: Rekonštrukcia športového povrchu | BS6: 0,01
D7: JKSO: | AK7: ČS: | BS7: 0,01
D8: Miesto: | K8: ZŠ Štefánikova Vrútky | AK8: Dátum: | AN8: 46233 | BS8: 0,01
BS9: 0,01
D10: Objednávateľ: | AK10: IČO: | BS10: 0,01
E11: Mesto Vrútky | AK11: IČ DPH: | BS11: 0,01
BS12: 0,01
D13: Zhotoviteľ: | AK13: IČO: | BS13: 0,01
AK14: IČ DPH: | BS14: 0,01
BS15: False
D16: Projektant: | AK16: IČO: | BS16: False
AK17: IČ DPH: | BS17: True
BS18: 0,01
D19: Spracovateľ: | AK19: IČO: | BS19: 0,01
AK20: IČ DPH: | BS20: True
D22: Poznámka:
D26: Cena bez DPH | AK26: =ROUND(AG94,2) -> 0
L28: Sadzba dane | W28: Základ dane | AK28: Výška dane
D29: DPH | F29: základná | L29: 0.23 | W29: =ROUND(AZ94, 2) -> 0 | AK29: =ROUND(AV94, 2) -> 0
F30: znížená | L30: 0.23 | W30: =ROUND(BA94, 2) -> 0 | AK30: =ROUND(AW94, 2) -> 0
F31: zákl. prenesená | L31: 0.23 | W31: =ROUND(BB94, 2) -> 0 | AK31: 0
F32: zníž. prenesená | L32: 0.23 | W32: =ROUND(BC94, 2) -> 0 | AK32: 0
F33: nulová | L33: 0 | W33: =ROUND(BD94, 2) -> 0 | AK33: 0
D35: Cena s DPH | T35: v | X35: EUR | AK35: =SUM(AK26:AK33) -> 0
D49: Projektant | AH49: Spracovateľ
D60: Dátum a podpis: | V60: Pečiatka | AH60: Dátum a podpis: | AM60: Pečiatka
D64: Objednávateľ | AH64: Zhotoviteľ
D75: Dátum a podpis: | V75: Pečiatka | AH75: Dátum a podpis: | AM75: Pečiatka
C82: REKAPITULÁCIA OBJEKTOV STAVBY
C84: Kód: | L84: =K5 -> 20260402
C85: Stavba: | L85: =K6 -> Rekonštrukcia športového povrchu
C87: Miesto: | L87: =IF(K8="","",K8) -> ZŠ Štefánikova Vrútky | AI87: Dátum: | AM87: =IF(AN8= "","",AN8) -> 46233
C89: Objednávateľ: | L89: =IF(E11= "","",E11) -> Mesto Vrútky | AI89: Projektant: | AM89: =IF(E17="","",E17) | AS89: Informatívne údaje z listov zákaziek
C90: Zhotoviteľ: | AI90: Spracovateľ:
C92: Kód | I92: Popis | AG92: Cena bez DPH [EUR] | AN92: Cena s DPH [EUR] | AQ92: Typ | AS92: z toho Ostat._x000D_ náklady [EUR] | AT92: DPH [EUR] | AU92: Normohodiny [h] | AV92: DPH základná [EUR] | AW92: DPH znížená [EUR] | AX92: DPH základná prenesená_x000D_ [EUR] | AY92: DPH znížená prenesená_x000D_ [EUR] | AZ92: Základňa_x000D_ DPH základná | BA92: Základňa_x000D_ DPH znížená | BB92: Základňa_x000D_ DPH zákl. prenesená | BC92: Základňa_x000D_ DPH zníž. prenesená | BD92: Základňa_x000D_ DPH nulová
C94: Náklady z rozpočtov | AG94: =ROUND(AG95,2) -> 0 | AN94: =SUM(AG94,AT94) -> 0 | AS94: =ROUND(AS95,2) -> 0 | AT94: =ROUND(SUM(AV94:AW94),2) -> 0 | AU94: =ROUND(AU95,5) -> 201.75 | AV94: =ROUND(AZ94*L29,2) -> 0 | AW94: =ROUND(BA94*L30,2) -> 0 | AX94: =ROUND(BB94*L29,2) -> 0 | AY94: =ROUND(BC94*L30,2) -> 0 | AZ94: =ROUND(AZ95,2) -> 0 | BA94: =ROUND(BA95,2) -> 0 | BB94: =ROUND(BB95,2) -> 0 | BC94: =ROUND(BC95,2) -> 0 | BD94: =ROUND(BD95,2) -> 0 | BS94: D | BT94: 0 | BV94: IMPORT | BW94: {6b1af9ba-3909-44a6-96f1-029f928c2862} | BX94: {00000000-0000-0000-0000-000000000000}
A95: / | D95: 20260402 | J95: rekonštrukcia športového povrchu | AG95: ='rekonštrukcia šport. povrchu'!J28 -> 0 | AN95: =SUM(AG95,AT95) -> 0 | AQ95: STA | AS95: 0 | AT95: =ROUND(SUM(AV95:AW95),2) -> 0 | AU95: ='rekonštrukcia šport. povrchu'!P115 -> 201.75 | AV95: ='rekonštrukcia šport. povrchu'!J31 -> 0 | AW95: ='rekonštrukcia šport. povrchu'!J32 -> 0 | AX95: ='rekonštrukcia šport. povrchu'!J33 -> 0 | AY95: ='rekonštrukcia šport. povrchu'!J34 -> 0 | AZ95: ='rekonštrukcia šport. povrchu'!F31 -> 0 | BA95: ='rekonštrukcia šport. povrchu'!F32 -> 0 | BB95: ='rekonštrukcia šport. povrchu'!F33 -> 0 | BC95: ='rekonštrukcia šport. povrchu'!F34 -> 0 | BD95: ='rekonštrukcia šport. povrchu'!F35 -> 0 | BT95: 1 | BU95: ###NOINSERT### | BV95: IMPORT | BW95: {6b1af9ba-3909-44a6-96f1-029f928c2862} | BX95: {00000000-0000-0000-0000-000000000000}

Sheet rekonštrukcia šport. povrchu
L2: >> skryté stĺpce << | AT2: {6b1af9ba-3909-44a6-96f1-029f928c2862}
AT3: 0
D4: KRYCÍ LIST ROZPOČTU | M4: v --- nižšie sa nachádzajú doplnkové a pomocné údaje k zostavám --- v | AT4: False
D6: Stavba:
E7: Rekonštrukcia športového povrchu
D9: JKSO: | I9: ČS:
D10: Miesto: | F10: Vrútky, ZŠ Štefánikova | I10: Dátum: | J10: 46233
D12: Objednávateľ: | I12: IČO:
I13: IČ DPH:
D15: Zhotoviteľ: | I15: IČO:
I16: IČ DPH:
D18: Projektant: | I18: IČO: | J18: =IF('Rekapitulácia stavby'!AN16="","",'Rekapitulácia stavby'!AN16)
E19: =IF('Rekapitulácia stavby'!E17="","",'Rekapitulácia stavby'!E17) | I19: IČ DPH: | J19: =IF('Rekapitulácia stavby'!AN17="","",'Rekapitulácia stavby'!AN17)
D21: Spracovateľ: | I21: IČO:
I22: IČ DPH:
D24: Poznámka:
D28: Cena bez DPH | J28: =ROUND(J115, 2) -> 0
F30: Základ dane | I30: Sadzba dane | J30: Výška dane
D31: DPH | E31: základná | F31: =ROUND((SUM(BE115:BE139)), 2) -> 0 | I31: 0.23 | J31: =ROUND(((SUM(BE115:BE139))*I31), 2) -> 0
E32: znížená | F32: =ROUND((SUM(BF115:BF139)), 2) -> 0 | I32: 0.23 | J32: =ROUND(((SUM(BF115:BF139))*I32), 2) -> 0
E33: zákl. prenesená | F33: =ROUND((SUM(BG115:BG139)), 2) -> 0 | I33: 0.23 | J33: =0 -> 0
E34: zníž. prenesená | F34: =ROUND((SUM(BH115:BH139)), 2) -> 0 | I34: 0.23 | J34: =0 -> 0
E35: nulová | F35: =ROUND((SUM(BI115:BI139)), 2) -> 0 | I35: 0 | J35: =0 -> 0
D37: Cena s DPH | G37: v | H37: EUR | J37: =SUM(J28:J35) -> 0
D50: Projektant | G50: Spracovateľ
D61: Dátum a podpis: | F61: Pečiatka | G61: Dátum a podpis: | J61: Pečiatka
D65: Objednávateľ | G65: Zhotoviteľ
D76: Dátum a podpis: | F76: Pečiatka | G76: Dátum a podpis: | J76: Pečiatka
C82: REKAPITULÁCIA ROZPOČTU
C84: Stavba:
E85: =E7 -> Rekonštrukcia športového povrchu
C87: Miesto: | F87: =F10 -> Vrútky, ZŠ Štefánikova | I87: Dátum: | J87: 46233
C89: Objednávateľ: | F89: =E13 -> 0 | I89: Projektant: | J89: =E19
C90: Zhotoviteľ: | I90: Spracovateľ:
C92: Kód dielu - Popis | J92: Cena celkom [EUR]
C94: Náklady z rozpočtu | J94: =J115 -> 0 | AU94: -1
D95: HSV - Práce a dodávky HSV | J95: =J116 -> 0
D96: 6 - Športový povrch | J96: =J117 -> 0
D97: 991 - Odstránenie starého športového povrchu | J97: =J127 -> 0
C104: ROZPOČET
C106: Stavba:
E107: =E7 -> Rekonštrukcia športového povrchu
C109: Miesto: | F109: =F10 -> Vrútky, ZŠ Štefánikova | I109: Dátum: | J109: =IF(J10="","",J10) -> 46233
C111: Objednávateľ: | F111: =E13 -> 0 | I111: Projektant: | J111: =E19
C112: Zhotoviteľ: | I112: Spracovateľ:
C114: PČ | D114: Typ | E114: Kód | F114: Popis | G114: MJ | H114: Množstvo | I114: J.cena [EUR] | J114: Cena celkom [EUR] | K114: Cenová sústava | N114: DPH | O114: J. Nh [h] | P114: Nh celkom [h] | Q114: J. hmotnosť [t] | R114: Hmotnosť celkom [t] | S114: J. suť [t] | T114: Suť Celkom [t]
C115: Náklady z rozpočtu | J115: =J116 -> 0 | P115: =P116 -> 201.75 | R115: =R116 -> 17.68663 | T115: =T116 -> 0 | AT115: D | AU115: -1 | BK115: =BK116 -> 0
D116: D | E116: HSV | F116: Práce a dodávky HSV | J116: =J117 -> 0 | P116: =P117 -> 201.75 | R116: =R117 -> 17.68663 | T116: =T117 -> 0 | AR116: 2 | AT116: D | AU116: 0 | AY116: ROZPOCET | BK116: =BK117 -> 0
D117: D | E117: 6 | F117: Športový povrch | J117: =J118+J120+J121+J122+J124+J125+J126+J127+J128+J129+J131+J132+J133+J135+J136+J137 -> 0 | P117: =P118+SUM(P119:P127) -> 201.75 | R117: =R118+SUM(R119:R127) -> 17.68663 | T117: =T118+SUM(T119:T127) -> 0 | AR117: 1 | AT117: D | AU117: 1 | AY117: ROZPOCET | BK117: =BK118+SUM(BK119:BK127) -> 0
C118: 1 | D118: M | E118: 284170003300.S | F118: Umelá tráva viacúčelová monofilamentný vlas texturovaný , výška vlasu 24 mm , Dtex 11500 , hustota koncov 361152 m2, hrúbka vlákna 180 µm, celková plošná hmotnosť 2638g/m2 +10% odrez a čiary biele na tenis, | G118: m2 | H118: 807 | J118: =ROUND(I118*H118,2) -> 0 | N118: znížená | O118: 0 | P118: =O118*H118 -> 0 | Q118: 0.0018 | R118: =Q118*H118 -> 1.4526 | S118: 0 | T118: =S118*H118 -> 0 | AR118: 8 | AT118: M | AU118: 2 | AY118: ROZPOCET | BE118: =IF(N118="základná",J118,0) -> 0 | BF118: =IF(N118="znížená",J118,0) -> 0 | BG118: =IF(N118="zákl. prenesená",J118,0) -> 0 | BH118: =IF(N118="zníž. prenesená",J118,0) -> 0 | BI118: =IF(N118="nulová",J118,0) -> 0 | BJ118: 2 | BK118: =ROUND(I118*H118,2) -> 0 | BL118: 4 | BM118: -762966614
D119: VV | F119: 40*20 + výbehy na bránky | AT119: VV | AU119: 2 | AV119: 2 | AW119: True | AX119: 1 | AY119: ROZPOCET
C120: 2 | D120: M | E120: 247410002900 | F120: Lepidlo na umelú trávu , polyuretánové dvojzložkové | G120: kg | H120: 250 | J120: =ROUND(I120*H120,2) -> 0 | N120: znížená | O120: 0 | P120: =O120*H120 -> 0 | Q120: 0 | R120: =Q120*H120 -> 0 | S120: 0 | T120: =S120*H120 -> 0 | AR120: 8 | AT120: M | AU120: 2 | AY120: ROZPOCET | BE120: =IF(N120="základná",J120,0) -> 0 | BF120: =IF(N120="znížená",J120,0) -> 0 | BG120: =IF(N120="zákl. prenesená",J120,0) -> 0 | BH120: =IF(N120="zníž. prenesená",J120,0) -> 0 | BI120: =IF(N120="nulová",J120,0) -> 0 | BJ120: 2 | BK120: =ROUND(I120*H120,2) -> 0 | BL120: 4 | BM120: 252985256
C121: 3 | D121: M | E121: 2834100173001 | F121: Podlepovacia páska pre lepenie umelej trávy a čiar , | G121: m | H121: 800 | J121: =ROUND(I121*H121,2) -> 0 | N121: znížená | O121: 0 | P121: =O121*H121 -> 0 | Q121: 0 | R121: =Q121*H121 -> 0 | S121: 0 | T121: =S121*H121 -> 0 | AR121: 8 | AT121: M | AU121: 2 | AY121: ROZPOCET | BE121: =IF(N121="základná",J121,0) -> 0 | BF121: =IF(N121="znížená",J121,0) -> 0 | BG121: =IF(N121="zákl. prenesená",J121,0) -> 0 | BH121: =IF(N121="zníž. prenesená",J121,0) -> 0 | BI121: =IF(N121="nulová",J121,0) -> 0 | BJ121: 2 | BK121: =ROUND(I121*H121,2) -> 0 | BL121: 4 | BM121: -818580086
C122: 4 | D122: K | E122: 589100002 | F122: Položenie umelej trávy na tenisové ihriská vrátane čiarovania na tenis, | G122: m2 | H122: =H118 -> 807 | J122: =ROUND(I122*H122,2) -> 0 | N122: znížená | O122: 0.25 | P122: =O122*H122 -> 201.75 | Q122: 0.00029 | R122: =Q122*H122 -> 0.23403 | S122: 0 | T122: =S122*H122 -> 0 | AR122: 4 | AT122: K | AU122: 2 | AY122: ROZPOCET | BE122: =IF(N122="základná",J122,0) -> 0 | BF122: =IF(N122="znížená",J122,0) -> 0 | BG122: =IF(N122="zákl. prenesená",J122,0) -> 0 | BH122: =IF(N122="zníž. prenesená",J122,0) -> 0 | BI122: =IF(N122="nulová",J122,0) -> 0 | BJ122: 2 | BK122: =ROUND(I122*H122,2) -> 0 | BL122: 4 | BM122: 1702873726
D123: VV | F123: 36x18 | H123: 1168 | AT123: VV | AU123: 2 | AV123: 2 | AW123: True | AX123: 1 | AY123: ROZPOCET
C124: 5 | D124: M | E124: 581530000500.S | F124: Piesok kremičitý frakcia 0,3-0,8 mm | G124: t | H124: 16 | J124: =ROUND(I124*H124,2) -> 0 | N124: znížená | O124: 0 | P124: =O124*H124 -> 0 | Q124: 1 | R124: =Q124*H124 -> 16 | S124: 0 | T124: =S124*H124 -> 0 | AR124: 8 | AT124: M | AU124: 2 | AY124: ROZPOCET | BE124: =IF(N124="základná",J124,0) -> 0 | BF124: =IF(N124="znížená",J124,0) -> 0 | BG124: =IF(N124="zákl. prenesená",J124,0) -> 0 | BH124: =IF(N124="zníž. prenesená",J124,0) -> 0 | BI124: =IF(N124="nulová",J124,0) -> 0 | BJ124: 2 | BK124: =ROUND(I124*H124,2) -> 0 | BL124: 4 | BM124: -1566201324
C125: 6 | D125: K | E125: 631316103.S1 | F125: Povrchová úprava vsypovou zmesou pre umelú trávu , kremíkom, ľahká prevádzka, hr. vsypu 2 mm | G125: m2 | H125: =H118 -> 807 | J125: =ROUND(I125*H125,2) -> 0 | N125: znížená | O125: 0 | P125: =O125*H125 -> 0 | Q125: 0 | R125: =Q125*H125 -> 0 | S125: 0 | T125: =S125*H125 -> 0 | AR125: 4 | AT125: K | AU125: 2 | AY125: ROZPOCET | BE125: =IF(N125="základná",J125,0) -> 0 | BF125: =IF(N125="znížená",J125,0) -> 0 | BG125: =IF(N125="zákl. prenesená",J125,0) -> 0 | BH125: =IF(N125="zníž. prenesená",J125,0) -> 0 | BI125: =IF(N125="nulová",J125,0) -> 0 | BJ125: 2 | BK125: =ROUND(I125*H125,2) -> 0 | BL125: 4 | BM125: 401132660
C126: 7 | D126: K | E126: 998231312.S | F126: Presun hmôt pre multifunkčné ihriská vodorovne | G126: sub | H126: 1 | J126: =ROUND(I126*H126,2) -> 0 | AR126: 4 | AT126: K | AU126: 2 | AY126: ROZPOCET | BE126: =IF(N126="základná",J126,0) -> 0 | BF126: =IF(N126="znížená",J126,0) -> 0 | BG126: =IF(N126="zákl. prenesená",J126,0) -> 0 | BH126: =IF(N126="zníž. prenesená",J126,0) -> 0 | BI126: =IF(N126="nulová",J126,0) -> 0 | BJ126: 2 | BK126: =ROUND(I126*H126,2) -> 0 | BL126: 4 | BM126: -809626209
D127: D | E127: 991 | F127: Úprava starého športového povrchu | AR127: 2 | AT127: D | AU127: 2 | AY127: ROZPOCET | BK127: =SUM(BK128:BK139) -> 0
C128: 8 | D128: K | E128: 9780712511 | F128: Odstránenie umelej trávy a ET deky z ihriska podľa rozmeru | G128: m2 | H128: =H118 -> 807 | J128: =ROUND(I128*H128,2) -> 0 | AR128: 4 | AT128: K | AU128: 3 | AY128: ROZPOCET | BE128: =IF(N128="základná",J128,0) -> 0 | BF128: =IF(N128="znížená",J128,0) -> 0 | BG128: =IF(N128="zákl. prenesená",J128,0) -> 0 | BH128: =IF(N128="zníž. prenesená",J128,0) -> 0 | BI128: =IF(N128="nulová",J128,0) -> 0 | BJ128: 2 | BK128: =ROUND(I128*H128,2) -> 0 | BL128: 4 | BM128: 1890064383
C129: 9 | D129: K | E129: 979087213.S | F129: Nakladanie na dopravné prostriedky pre vodorovnú dopravu umelá tráva ( Váha je len odhad ) | G129: t | H129: 21.6 | J129: =ROUND(I129*H129,2) -> 0 | AR129: 4 | AT129: K | AU129: 3 | AY129: ROZPOCET | BE129: =IF(N129="základná",J129,0) -> 0 | BF129: =IF(N129="znížená",J129,0) -> 0 | BG129: =IF(N129="zákl. prenesená",J129,0) -> 0 | BH129: =IF(N129="zníž. prenesená",J129,0) -> 0 | BI129: =IF(N129="nulová",J129,0) -> 0 | BJ129: 2 | BK129: =ROUND(I129*H129,2) -> 0 | BL129: 4 | BM129: 911799806
D130: VV | F130: 35,04 | AT130: VV | AU130: 3 | AV130: 2 | AW130: True | AX130: 1 | AY130: ROZPOCET
C131: 10 | D131: K | E131: 162201102 | F131: Vodorovné premiestnenie materiálov nad 20-50m | G131: m3 | H131: 23.36 | J131: =ROUND(I131*H131,2) -> 0 | AR131: 4 | AT131: K | AU131: 3 | AY131: ROZPOCET | BE131: =IF(N131="základná",J131,0) -> 0 | BF131: =IF(N131="znížená",J131,0) -> 0 | BG131: =IF(N131="zákl. prenesená",J131,0) -> 0 | BH131: =IF(N131="zníž. prenesená",J131,0) -> 0 | BI131: =IF(N131="nulová",J131,0) -> 0 | BJ131: 2 | BK131: =ROUND(I131*H131,2) -> 0 | BL131: 4 | BM131: 1602189169
C132: 11 | D132: K | E132: 162501102.1 | F132: Čiarovanie ihriska- vyrezávanie a vlepovanie čiar | G132: bm | H132: 420 | J132: =ROUND(I132*H132,2) -> 0 | AR132: 4 | AT132: K | AU132: 3 | AY132: ROZPOCET | BE132: =IF(N132="základná",J132,0) -> 0 | BF132: =IF(N132="znížená",J132,0) -> 0 | BG132: =IF(N132="zákl. prenesená",J132,0) -> 0 | BH132: =IF(N132="zníž. prenesená",J132,0) -> 0 | BI132: =IF(N132="nulová",J132,0) -> 0 | BJ132: 2 | BK132: =ROUND(I132*H132,2) -> 0 | BL132: 4 | BM132: -338442907
C133: 12 | D133: K | E133: 162501105.1 | F133: Zhotovenie bezbariérového vstupu na športovú plochu | G133: m2 | H133: 2 | J133: =ROUND(I133*H133,2) -> 0 | AR133: 4 | AT133: K | AU133: 3 | AY133: ROZPOCET | BE133: =IF(N133="základná",J133,0) -> 0 | BF133: =IF(N133="znížená",J133,0) -> 0 | BG133: =IF(N133="zákl. prenesená",J133,0) -> 0 | BH133: =IF(N133="zníž. prenesená",J133,0) -> 0 | BI133: =IF(N133="nulová",J133,0) -> 0 | BJ133: 2 | BK133: =ROUND(I133*H133,2) -> 0 | BL133: 4 | BM133: -1677374522
AT134: VV | AU134: 3 | AV134: 2 | AW134: True | AX134: 1 | AY134: ROZPOCET
C135: 13 | D135: K | E135: 564201111.S | F135: Zrovnanie štrkopiesku pred položením umelej trávy . Vrátane vlhčenia a zhutnenia , po zhutnení hr. 20 mm | G135: m2 | H135: =H118 -> 807 | J135: =ROUND(I135*H135,2) -> 0 | AR135: 4 | AT135: K | AU135: 3 | AY135: ROZPOCET | BE135: =IF(N135="základná",J135,0) -> 0 | BF135: =IF(N135="znížená",J135,0) -> 0 | BG135: =IF(N135="zákl. prenesená",J135,0) -> 0 | BH135: =IF(N135="zníž. prenesená",J135,0) -> 0 | BI135: =IF(N135="nulová",J135,0) -> 0 | BJ135: 2 | BK135: =ROUND(I135*H135,2) -> 0 | BL135: 4 | BM135: -1330040183
C136: 14 | D136: K | E136: 171201201.1 | F136: Uloženie umelej trávy na skládky do 100 m3 | G136: m3 | H136: 23.36 | J136: =ROUND(I136*H136,2) -> 0 | AR136: 4 | AT136: K | AU136: 3 | AY136: ROZPOCET | BE136: =IF(N136="základná",J136,0) -> 0 | BF136: =IF(N136="znížená",J136,0) -> 0 | BG136: =IF(N136="zákl. prenesená",J136,0) -> 0 | BH136: =IF(N136="zníž. prenesená",J136,0) -> 0 | BI136: =IF(N136="nulová",J136,0) -> 0 | BJ136: 2 | BK136: =ROUND(I136*H136,2) -> 0 | BL136: 4 | BM136: -1724721569
C137: 15 | D137: K | E137: 171209002.1 | F137: Poplatok za skladovanie - umelá tráva odhad podľa zaťaženia | G137: t | H137: 35.04 | J137: =ROUND(I137*H137,2) -> 0 | AR137: 4 | AT137: K | AU137: 3 | AY137: ROZPOCET | BE137: =IF(N137="základná",J137,0) -> 0 | BF137: =IF(N137="znížená",J137,0) -> 0 | BG137: =IF(N137="zákl. prenesená",J137,0) -> 0 | BH137: =IF(N137="zníž. prenesená",J137,0) -> 0 | BI137: =IF(N137="nulová",J137,0) -> 0 | BJ137: 2 | BK137: =ROUND(I137*H137,2) -> 0 | BL137: 4 | BM137: -1198473601
AT138: VV | AU138: 3 | AV138: 2 | AW138: True | AX138: 0 | AY138: ROZPOCET
AT139: VV | AU139: 3 | AV139: 4 | AW139: True | AX139: 1 | AY139: ROZPOCET
